BEGIN:VCALENDAR
VERSION:2.0
PRODID:-//hacksw/handcal//NONSGML v1.0//EN
BEGIN:VEVENT
UID:18387
DTSTART;VALUE=DATE:20240823
URL;VALUE=URI:ohschonhell.at/?page_id=40791
SUMMARY:Voltage unstable
LOCATION:Der Ponyhof
END:VEVENT
END:VCALENDAR


