BEGIN:VCALENDAR
VERSION:2.0
PRODID:-//hacksw/handcal//NONSGML v1.0//EN
BEGIN:VEVENT
UID:18415
DTSTART;VALUE=DATE:20240903
URL;VALUE=URI:ohschonhell.at/?page_id=40848
SUMMARY:das techno cafe
LOCATION:Volksgarten Technocafé
END:VEVENT
END:VCALENDAR


