BEGIN:VCALENDAR
VERSION:2.0
PRODID:-//hacksw/handcal//NONSGML v1.0//EN
BEGIN:VEVENT
UID:18419
DTSTART;VALUE=DATE:20240905
URL;VALUE=URI:ohschonhell.at/?page_id=40856
SUMMARY:RAVELADEN #41
LOCATION:Kramladen
END:VEVENT
END:VCALENDAR


