BEGIN:VCALENDAR
VERSION:2.0
PRODID:-//hacksw/handcal//NONSGML v1.0//EN
BEGIN:VEVENT
UID:1842
DTSTART;VALUE=DATE:20140817
URL;VALUE=URI:ohschonhell.at/?page_id=4457
SUMMARY:Timeout 2014
LOCATION:VIENNA CITY BEACH CLUB
END:VEVENT
END:VCALENDAR


