BEGIN:VCALENDAR
VERSION:2.0
PRODID:-//hacksw/handcal//NONSGML v1.0//EN
BEGIN:VEVENT
UID:18426
DTSTART;VALUE=DATE:20240907
URL;VALUE=URI:ohschonhell.at/?page_id=40870
SUMMARY:Du Tanzt Mich Mal Open Air Rave
LOCATION:PORTO POLLO
END:VEVENT
END:VCALENDAR


