BEGIN:VCALENDAR
VERSION:2.0
PRODID:-//hacksw/handcal//NONSGML v1.0//EN
BEGIN:VEVENT
UID:18437
DTSTART;VALUE=DATE:20240913
URL;VALUE=URI:ohschonhell.at/?page_id=40892
SUMMARY:WRECK w/ Lerro\, Æ-X &amp\; Lala
LOCATION:SASS
END:VEVENT
END:VCALENDAR


