BEGIN:VCALENDAR
VERSION:2.0
PRODID:-//hacksw/handcal//NONSGML v1.0//EN
BEGIN:VEVENT
UID:18468
DTSTART;VALUE=DATE:20240919
URL;VALUE=URI:ohschonhell.at/?page_id=40955
SUMMARY:The Great Revel
LOCATION:Der Ponyhof
END:VEVENT
END:VCALENDAR


