BEGIN:VCALENDAR
VERSION:2.0
PRODID:-//hacksw/handcal//NONSGML v1.0//EN
BEGIN:VEVENT
UID:1847
DTSTART;VALUE=DATE:20140809
URL;VALUE=URI:ohschonhell.at/?page_id=4463
SUMMARY:Oldschool Goa
LOCATION:WEBERKNECHT
END:VEVENT
END:VCALENDAR


