BEGIN:VCALENDAR
VERSION:2.0
PRODID:-//hacksw/handcal//NONSGML v1.0//EN
BEGIN:VEVENT
UID:18475
DTSTART;VALUE=DATE:20240920
URL;VALUE=URI:ohschonhell.at/?page_id=40970
SUMMARY:Cyber x Homebase x Vibrant
LOCATION:Prater, Wien, Austria
END:VEVENT
END:VCALENDAR


