BEGIN:VCALENDAR
VERSION:2.0
PRODID:-//hacksw/handcal//NONSGML v1.0//EN
BEGIN:VEVENT
UID:18484
DTSTART;VALUE=DATE:20241005
URL;VALUE=URI:ohschonhell.at/?page_id=40988
SUMMARY:LÖWENZAHN X SORRY MOM | Soli-Event for Ponyhof
LOCATION:Der Ponyhof
END:VEVENT
END:VCALENDAR


