BEGIN:VCALENDAR
VERSION:2.0
PRODID:-//hacksw/handcal//NONSGML v1.0//EN
BEGIN:VEVENT
UID:18504
DTSTART;VALUE=DATE:20240928
URL;VALUE=URI:ohschonhell.at/?page_id=41028
SUMMARY:VCC Free Spaces #7: about later x donaurave
LOCATION:DONAUINSEL
END:VEVENT
END:VCALENDAR


