BEGIN:VCALENDAR
VERSION:2.0
PRODID:-//hacksw/handcal//NONSGML v1.0//EN
BEGIN:VEVENT
UID:18509
DTSTART;VALUE=DATE:20241002
URL;VALUE=URI:ohschonhell.at/?page_id=41039
SUMMARY:Cheval fatale
LOCATION:Der Ponyhof
END:VEVENT
END:VCALENDAR


