BEGIN:VCALENDAR
VERSION:2.0
PRODID:-//hacksw/handcal//NONSGML v1.0//EN
BEGIN:VEVENT
UID:18515
DTSTART;VALUE=DATE:20241005
URL;VALUE=URI:ohschonhell.at/?page_id=41051
SUMMARY:Schlaflos im SASS
LOCATION:SASS
END:VEVENT
END:VCALENDAR


