BEGIN:VCALENDAR
VERSION:2.0
PRODID:-//hacksw/handcal//NONSGML v1.0//EN
BEGIN:VEVENT
UID:18521
DTSTART;VALUE=DATE:20241008
URL;VALUE=URI:ohschonhell.at/?page_id=41063
SUMMARY:the meta creature contains: Mike Nigro / Matthew D. Gantt / Ariande Randall / Alexander Martinz
LOCATION:Kramladen
END:VEVENT
END:VCALENDAR


