BEGIN:VCALENDAR
VERSION:2.0
PRODID:-//hacksw/handcal//NONSGML v1.0//EN
BEGIN:VEVENT
UID:18533
DTSTART;VALUE=DATE:20241010
URL;VALUE=URI:ohschonhell.at/?page_id=41088
SUMMARY:Donnerstag Nacht w./ Connecting People
LOCATION:SASS
END:VEVENT
END:VCALENDAR


