BEGIN:VCALENDAR
VERSION:2.0
PRODID:-//hacksw/handcal//NONSGML v1.0//EN
BEGIN:VEVENT
UID:18549
DTSTART;VALUE=DATE:20241018
URL;VALUE=URI:ohschonhell.at/?page_id=41120
SUMMARY:Schroedinger’s Groove: Observation
LOCATION:Kramladen
END:VEVENT
END:VCALENDAR


