BEGIN:VCALENDAR
VERSION:2.0
PRODID:-//hacksw/handcal//NONSGML v1.0//EN
BEGIN:VEVENT
UID:18555
DTSTART;VALUE=DATE:20241017
URL;VALUE=URI:ohschonhell.at/?page_id=41133
SUMMARY:Residenz Spaßhaben
LOCATION:Der Ponyhof
END:VEVENT
END:VCALENDAR


