BEGIN:VCALENDAR
VERSION:2.0
PRODID:-//hacksw/handcal//NONSGML v1.0//EN
BEGIN:VEVENT
UID:18559
DTSTART;VALUE=DATE:20241018
URL;VALUE=URI:ohschonhell.at/?page_id=41141
SUMMARY:RES.RADIO KITCHEN PARTY
LOCATION:Migrating Kitchen
END:VEVENT
END:VCALENDAR


