BEGIN:VCALENDAR
VERSION:2.0
PRODID:-//hacksw/handcal//NONSGML v1.0//EN
BEGIN:VEVENT
UID:18573
DTSTART;VALUE=DATE:20241018
URL;VALUE=URI:ohschonhell.at/?page_id=41170
SUMMARY:Puppenhouse Spezial at Jolly Roger 18.10.2024 - 23:00 - 06:00
LOCATION:Jolly Roger Club
END:VEVENT
END:VCALENDAR


