BEGIN:VCALENDAR
VERSION:2.0
PRODID:-//hacksw/handcal//NONSGML v1.0//EN
BEGIN:VEVENT
UID:18588
DTSTART;VALUE=DATE:20241024
URL;VALUE=URI:ohschonhell.at/?page_id=41200
SUMMARY:deep cut w/ Exonot - Hypnotic &amp\; Deep Techno
LOCATION:Kramladen
END:VEVENT
END:VCALENDAR


