BEGIN:VCALENDAR
VERSION:2.0
PRODID:-//hacksw/handcal//NONSGML v1.0//EN
BEGIN:VEVENT
UID:18616
DTSTART;VALUE=DATE:20241031
URL;VALUE=URI:ohschonhell.at/?page_id=41257
SUMMARY:Haunted Bass hosted by Ponyhof
LOCATION:Der Ponyhof
END:VEVENT
END:VCALENDAR


