BEGIN:VCALENDAR
VERSION:2.0
PRODID:-//hacksw/handcal//NONSGML v1.0//EN
BEGIN:VEVENT
UID:18619
DTSTART;VALUE=DATE:20241109
URL;VALUE=URI:ohschonhell.at/?page_id=41263
SUMMARY:LÖWENZAHN | GENERAL TECHNO DE-RESTORATION
LOCATION:Kramladen
END:VEVENT
END:VCALENDAR


