BEGIN:VCALENDAR
VERSION:2.0
PRODID:-//hacksw/handcal//NONSGML v1.0//EN
BEGIN:VEVENT
UID:18632
DTSTART;VALUE=DATE:20241101
URL;VALUE=URI:ohschonhell.at/?page_id=41289
SUMMARY:Du Tanzt Mich Mal im Sass
LOCATION:SASS
END:VEVENT
END:VCALENDAR


