BEGIN:VCALENDAR
VERSION:2.0
PRODID:-//hacksw/handcal//NONSGML v1.0//EN
BEGIN:VEVENT
UID:18653
DTSTART;VALUE=DATE:20241108
URL;VALUE=URI:ohschonhell.at/?page_id=41332
SUMMARY:Bass Bussi 1 Year Anniversary with KAROLINA
LOCATION:Kramladen
END:VEVENT
END:VCALENDAR


