BEGIN:VCALENDAR
VERSION:2.0
PRODID:-//hacksw/handcal//NONSGML v1.0//EN
BEGIN:VEVENT
UID:18662
DTSTART;VALUE=DATE:20241114
URL;VALUE=URI:ohschonhell.at/?page_id=41351
SUMMARY:RAW Session
LOCATION:Kramladen
END:VEVENT
END:VCALENDAR


