BEGIN:VCALENDAR
VERSION:2.0
PRODID:-//hacksw/handcal//NONSGML v1.0//EN
BEGIN:VEVENT
UID:18673
DTSTART;VALUE=DATE:20241117
URL;VALUE=URI:ohschonhell.at/?page_id=41373
SUMMARY:MORGENGYMNASTIK
LOCATION:SASS
END:VEVENT
END:VCALENDAR


