BEGIN:VCALENDAR
VERSION:2.0
PRODID:-//hacksw/handcal//NONSGML v1.0//EN
BEGIN:VEVENT
UID:18695
DTSTART;VALUE=DATE:20241121
URL;VALUE=URI:ohschonhell.at/?page_id=41417
SUMMARY:Homebase X Marmelade
LOCATION:SASS
END:VEVENT
END:VCALENDAR


