BEGIN:VCALENDAR
VERSION:2.0
PRODID:-//hacksw/handcal//NONSGML v1.0//EN
BEGIN:VEVENT
UID:18696
DTSTART;VALUE=DATE:20241119
URL;VALUE=URI:ohschonhell.at/?page_id=41419
SUMMARY:Back on Track
LOCATION:Der Ponyhof
END:VEVENT
END:VCALENDAR


