BEGIN:VCALENDAR
VERSION:2.0
PRODID:-//hacksw/handcal//NONSGML v1.0//EN
BEGIN:VEVENT
UID:18724
DTSTART;VALUE=DATE:20241206
URL;VALUE=URI:ohschonhell.at/?page_id=41476
SUMMARY:GAZE x Freeride Millenium
LOCATION:SASS
END:VEVENT
END:VCALENDAR


