BEGIN:VCALENDAR
VERSION:2.0
PRODID:-//hacksw/handcal//NONSGML v1.0//EN
BEGIN:VEVENT
UID:18740
DTSTART;VALUE=DATE:20241129
URL;VALUE=URI:ohschonhell.at/?page_id=41509
SUMMARY:BASEMNT. pres. AVAION
LOCATION:Praterdome
END:VEVENT
END:VCALENDAR


