BEGIN:VCALENDAR
VERSION:2.0
PRODID:-//hacksw/handcal//NONSGML v1.0//EN
BEGIN:VEVENT
UID:18741
DTSTART;VALUE=DATE:20241206
URL;VALUE=URI:ohschonhell.at/?page_id=41511
SUMMARY:TEMATICO
LOCATION:DAM / DAM
END:VEVENT
END:VCALENDAR


