BEGIN:VCALENDAR
VERSION:2.0
PRODID:-//hacksw/handcal//NONSGML v1.0//EN
BEGIN:VEVENT
UID:18747
DTSTART;VALUE=DATE:20241204
URL;VALUE=URI:ohschonhell.at/?page_id=41523
SUMMARY:Gute Laune live: Liebestrunken x YZ & philipp
LOCATION:Kramladen
END:VEVENT
END:VCALENDAR


