BEGIN:VCALENDAR
VERSION:2.0
PRODID:-//hacksw/handcal//NONSGML v1.0//EN
BEGIN:VEVENT
UID:18753
DTSTART;VALUE=DATE:20241214
URL;VALUE=URI:ohschonhell.at/?page_id=41535
SUMMARY:LÖWENZAHN X ANNAversary
LOCATION:Der Ponyhof
END:VEVENT
END:VCALENDAR


