BEGIN:VCALENDAR
VERSION:2.0
PRODID:-//hacksw/handcal//NONSGML v1.0//EN
BEGIN:VEVENT
UID:18760
DTSTART;VALUE=DATE:20241213
URL;VALUE=URI:ohschonhell.at/?page_id=41549
SUMMARY:VIVID w/
LOCATION:SASS
END:VEVENT
END:VCALENDAR


