BEGIN:VCALENDAR
VERSION:2.0
PRODID:-//hacksw/handcal//NONSGML v1.0//EN
BEGIN:VEVENT
UID:18766
DTSTART;VALUE=DATE:20241227
URL;VALUE=URI:ohschonhell.at/?page_id=41561
SUMMARY:Luv Affair
LOCATION:SASS
END:VEVENT
END:VCALENDAR


