BEGIN:VCALENDAR
VERSION:2.0
PRODID:-//hacksw/handcal//NONSGML v1.0//EN
BEGIN:VEVENT
UID:18773
DTSTART;VALUE=DATE:20241206
URL;VALUE=URI:ohschonhell.at/?page_id=41575
SUMMARY:Bass Bussi with Draco
LOCATION:Kramladen
END:VEVENT
END:VCALENDAR


