BEGIN:VCALENDAR
VERSION:2.0
PRODID:-//hacksw/handcal//NONSGML v1.0//EN
BEGIN:VEVENT
UID:18779
DTSTART;VALUE=DATE:20241207
URL;VALUE=URI:ohschonhell.at/?page_id=41587
SUMMARY:Meduza - Prater Dome Vienna
LOCATION:Praterdome
END:VEVENT
END:VCALENDAR


