BEGIN:VCALENDAR
VERSION:2.0
PRODID:-//hacksw/handcal//NONSGML v1.0//EN
BEGIN:VEVENT
UID:18798
DTSTART;VALUE=DATE:20241220
URL;VALUE=URI:ohschonhell.at/?page_id=41625
SUMMARY:NOCH 1 MAL WILD SEIN BEVOR DAS CHRISTKIND KOMMT!
LOCATION:Kramladen
END:VEVENT
END:VCALENDAR


