BEGIN:VCALENDAR
VERSION:2.0
PRODID:-//hacksw/handcal//NONSGML v1.0//EN
BEGIN:VEVENT
UID:18817
DTSTART;VALUE=DATE:20241213
URL;VALUE=URI:ohschonhell.at/?page_id=41665
SUMMARY:disko obskuro x
LOCATION:Der Ponyhof
END:VEVENT
END:VCALENDAR


