BEGIN:VCALENDAR
VERSION:2.0
PRODID:-//hacksw/handcal//NONSGML v1.0//EN
BEGIN:VEVENT
UID:1882
DTSTART;VALUE=DATE:20140813
URL;VALUE=URI:ohschonhell.at/?page_id=4503
SUMMARY:ALBERT&amp\;TINA #5_ANNA LEISER &amp\; JOJA
LOCATION:ALBERTINA
END:VEVENT
END:VCALENDAR


