BEGIN:VCALENDAR
VERSION:2.0
PRODID:-//hacksw/handcal//NONSGML v1.0//EN
BEGIN:VEVENT
UID:18868
DTSTART;VALUE=DATE:20241231
URL;VALUE=URI:ohschonhell.at/?page_id=41768
SUMMARY:TOUCH OF 2025
LOCATION:Enzo
END:VEVENT
END:VCALENDAR


