BEGIN:VCALENDAR
VERSION:2.0
PRODID:-//hacksw/handcal//NONSGML v1.0//EN
BEGIN:VEVENT
UID:18901
DTSTART;VALUE=DATE:20250119
URL;VALUE=URI:ohschonhell.at/?page_id=41835
SUMMARY:Morgengymnastik
LOCATION:SASS
END:VEVENT
END:VCALENDAR


