BEGIN:VCALENDAR
VERSION:2.0
PRODID:-//hacksw/handcal//NONSGML v1.0//EN
BEGIN:VEVENT
UID:18902
DTSTART;VALUE=DATE:20250123
URL;VALUE=URI:ohschonhell.at/?page_id=41837
SUMMARY:fluid [flinta edition]
LOCATION:SASS
END:VEVENT
END:VCALENDAR


