BEGIN:VCALENDAR
VERSION:2.0
PRODID:-//hacksw/handcal//NONSGML v1.0//EN
BEGIN:VEVENT
UID:18918
DTSTART;VALUE=DATE:20250104
URL;VALUE=URI:ohschonhell.at/?page_id=41869
SUMMARY:LÖWENZAHN | REBOOT RAVE
LOCATION:Kramladen
END:VEVENT
END:VCALENDAR


