BEGIN:VCALENDAR
VERSION:2.0
PRODID:-//hacksw/handcal//NONSGML v1.0//EN
BEGIN:VEVENT
UID:18920
DTSTART;VALUE=DATE:20250102
URL;VALUE=URI:ohschonhell.at/?page_id=41873
SUMMARY:Cosmic Connection vol.14
LOCATION:Kramladen
END:VEVENT
END:VCALENDAR


