BEGIN:VCALENDAR
VERSION:2.0
PRODID:-//hacksw/handcal//NONSGML v1.0//EN
BEGIN:VEVENT
UID:18921
DTSTART;VALUE=DATE:20250104
URL;VALUE=URI:ohschonhell.at/?page_id=41875
SUMMARY:SUGAR RUSH VOL. III
LOCATION:SASS
END:VEVENT
END:VCALENDAR


