BEGIN:VCALENDAR
VERSION:2.0
PRODID:-//hacksw/handcal//NONSGML v1.0//EN
BEGIN:VEVENT
UID:18932
DTSTART;VALUE=DATE:20250110
URL;VALUE=URI:ohschonhell.at/?page_id=41897
SUMMARY:Dionysos
LOCATION:RHIZ
END:VEVENT
END:VCALENDAR


