BEGIN:VCALENDAR
VERSION:2.0
PRODID:-//hacksw/handcal//NONSGML v1.0//EN
BEGIN:VEVENT
UID:18933
DTSTART;VALUE=DATE:20250107
URL;VALUE=URI:ohschonhell.at/?page_id=41900
SUMMARY:Back on Track
LOCATION:Der Ponyhof
END:VEVENT
END:VCALENDAR


