BEGIN:VCALENDAR
VERSION:2.0
PRODID:-//hacksw/handcal//NONSGML v1.0//EN
BEGIN:VEVENT
UID:18968
DTSTART;VALUE=DATE:20250116
URL;VALUE=URI:ohschonhell.at/?page_id=41971
SUMMARY:Lucidity
LOCATION:Kramladen
END:VEVENT
END:VCALENDAR


