BEGIN:VCALENDAR
VERSION:2.0
PRODID:-//hacksw/handcal//NONSGML v1.0//EN
BEGIN:VEVENT
UID:190
DTSTART;VALUE=DATE:20131129
URL;VALUE=URI:ohschonhell.at/?page_id=2665
SUMMARY:WHUT?! - Pomrad (BE) - FR 29.11.2013
LOCATION:CAFE LEOPOLD
END:VEVENT
END:VCALENDAR


